BEGIN:VCALENDAR
VERSION:2.0
PRODID:-//SPEAKERS 2.0 | THE HEALTHCARE SPEAKERS ONLINE ACADEMY - ECPv6.3.1//NONSGML v1.0//EN
CALSCALE:GREGORIAN
METHOD:PUBLISH
X-ORIGINAL-URL:https://academy.speakers20.com
X-WR-CALDESC:Eventos para SPEAKERS 2.0 | THE HEALTHCARE SPEAKERS ONLINE ACADEMY
REFRESH-INTERVAL;VALUE=DURATION:PT1H
X-Robots-Tag:noindex
X-PUBLISHED-TTL:PT1H
BEGIN:VTIMEZONE
TZID:Europe/Madrid
BEGIN:DAYLIGHT
TZOFFSETFROM:+0100
TZOFFSETTO:+0200
TZNAME:CEST
DTSTART:20230326T010000
END:DAYLIGHT
BEGIN:STANDARD
TZOFFSETFROM:+0200
TZOFFSETTO:+0100
TZNAME:CET
DTSTART:20231029T010000
END:STANDARD
BEGIN:DAYLIGHT
TZOFFSETFROM:+0100
TZOFFSETTO:+0200
TZNAME:CEST
DTSTART:20240331T010000
END:DAYLIGHT
BEGIN:STANDARD
TZOFFSETFROM:+0200
TZOFFSETTO:+0100
TZNAME:CET
DTSTART:20241027T010000
END:STANDARD
END:VTIMEZONE
BEGIN:VEVENT
DTSTART;TZID=Europe/Madrid:20241010T080000
DTEND;TZID=Europe/Madrid:20241010T110000
DTSTAMP:20260421T160330
CREATED:20241021T232214Z
LAST-MODIFIED:20231118T034730Z
UID:292-1728547200-1728558000@academy.speakers20.com
SUMMARY:English Study Group Meetup
DESCRIPTION:Maecenas leo nisi\, efficitur at felis sit amet\, lacinia auctor quam. Aliquam euismod pretium mattis. Aenean sollicitudin orci non orci gravida ullamcorper. Duis utres odios pellentesque\, efficiturs odio vitae\, aliquams arcu. Sed pulvinar lacus at neque imperdiet lobortis. Phasellus eget lectus rutrum\, fringilla nibh ut\, convallis orci. Quisque magna risus\, lacinia a pharetra vel\, gravida ac mi. Aenean ac interdum nisi\, et vehicula nisl. Suspendisse potenti. Cras leo ex\, congue eget dignissim nec\, porta maximus erat. Etiam ornare arcu neque\, in viverra eros egestas eu. Mauris diam velit\, dictum et vehicula nec\, sagittis nec sapien. Donec tincidunt purus et justo porttitor\, non porttitor quam fermentum orci non aliquams arcu dolores ipsums. \nDonec maximus a ante sit amet nisl nisi at arcu. Donec lobortis libero ex\, a sollicitudin neque volutpat. Aenean pretium nisi id lectus cursus sagittis. Aliquam sit amet nisl pretium\, consectetur purus non\, porta libero. Integer dui dui\, porta non mollis sit amet\, pharetra nec risus. Donec fringilla ex non arcu auctor\, vel faucibus felis pharetra. Pellentesque condimentum suscipit mi. Sed pretium\, tellus et efficitur dapibus\, metus nunc gravida ante\, at interdum nisl nisi at arcu. Donec lobortis libero ex\, a sollicitudin neque dapibus vitae. Maecenas volutpat est sit amet leo pretium mollis eu a odio dolores ipsums ficilis etras.’\,\n‘post_excerpt’ => ‘Maecenas leo nisi\, efficitur at felis sit amet\, lacinia auctor quam. Aliquam euismod pretium mattis. Aenean sollicitudin orci non orci gravida ullamcorper.
URL:https://academy.speakers20.com/evento/english-study-group-meetup/
LOCATION:zoom
CATEGORIES:Art
END:VEVENT
BEGIN:VEVENT
DTSTART;TZID=Europe/Madrid:20231119T080000
DTEND;TZID=Europe/Madrid:20231119T110000
DTSTAMP:20260421T160330
CREATED:20241021T232214Z
LAST-MODIFIED:20231118T035357Z
UID:290-1700380800-1700391600@academy.speakers20.com
SUMMARY:Wonders of the Night Sky Show
DESCRIPTION:Maecenas leo nisi\, efficitur at felis sit amet\, lacinia auctor quam. Aliquam euismod pretium mattis. Aenean sollicitudin orci non orci gravida ullamcorper. Duis utres odios pellentesque\, efficiturs odio vitae\, aliquams arcu. Sed pulvinar lacus at neque imperdiet lobortis. Phasellus eget lectus rutrum\, fringilla nibh ut\, convallis orci. Quisque magna risus\, lacinia a pharetra vel\, gravida ac mi. Aenean ac interdum nisi\, et vehicula nisl. Suspendisse potenti. Cras leo ex\, congue eget dignissim nec\, porta maximus erat. Etiam ornare arcu neque\, in viverra eros egestas eu. Mauris diam velit\, dictum et vehicula nec\, sagittis nec sapien. Donec tincidunt purus et justo porttitor\, non porttitor quam fermentum orci non aliquams arcu dolores ipsums. \nDonec maximus a ante sit amet nisl nisi at arcu. Donec lobortis libero ex\, a sollicitudin neque volutpat. Aenean pretium nisi id lectus cursus sagittis. Aliquam sit amet nisl pretium\, consectetur purus non\, porta libero. Integer dui dui\, porta non mollis sit amet\, pharetra nec risus. Donec fringilla ex non arcu auctor\, vel faucibus felis pharetra. Pellentesque condimentum suscipit mi. Sed pretium\, tellus et efficitur dapibus\, metus nunc gravida ante\, at interdum nisl nisi at arcu. Donec lobortis libero ex\, a sollicitudin neque dapibus vitae. Maecenas volutpat est sit amet leo pretium mollis eu a odio dolores ipsums ficilis etras.’\,\n‘post_excerpt’ => ‘Maecenas leo nisi\, efficitur at felis sit amet\, lacinia auctor quam. Aliquam euismod pretium mattis. Aenean sollicitudin orci non orci gravida ullamcorper.
URL:https://academy.speakers20.com/evento/wonders-of-the-night-sky-show/
LOCATION:South Campus\, 1234 Apple Avenue\, New York\, 111111\, United States
CATEGORIES:Art
ATTACH;FMTTYPE=image/jpeg:https://academy.speakers20.com/wp-content/uploads/2023/10/demo_image.jpg
ORGANIZER;CN="Talemy University":MAILTO:support@themespirit.com
END:VEVENT
END:VCALENDAR